BEGIN:VCALENDAR
VERSION:2.0
PRODID:-//daytonhabitat.org//NONSGML kigkonsult.se iCalcreator 2.30.10//
CALSCALE:GREGORIAN
METHOD:PUBLISH
UID:82458b8f-56eb-4c79-acca-cff99270b5d3
X-WR-CALDESC:Our office is closed in observance of Labor Day.
X-WR-RELCALID:e95f3fd7832ccbdcf9d8703b52183994
X-WR-TIMEZONE:America/New_York
BEGIN:VTIMEZONE
TZID:America/New_York
BEGIN:STANDARD
TZNAME:EST
DTSTART:20191103T020000
TZOFFSETFROM:-0400
TZOFFSETTO:-0500
RDATE:20201101T020000
RDATE:20211107T020000
END:STANDARD
BEGIN:DAYLIGHT
TZNAME:EDT
DTSTART:20200308T020000
TZOFFSETFROM:-0500
TZOFFSETTO:-0400
RDATE:20210314T020000
END:DAYLIGHT
END:VTIMEZONE
BEGIN:VEVENT
UID:a7a3125d-e7de-450a-8207-615c63fbb242
DTSTAMP:20260426T011333Z
DESCRIPTION:Our office is closed in observance of Labor Day.
DTSTART;TZID=America/New_York:20200907T000000
DTEND;TZID=America/New_York:20200907T235900
LOCATION:
SUMMARY:Office Closed
END:VEVENT
END:VCALENDAR
