BEGIN:VCALENDAR
VERSION:2.0
PRODID:-//daytonhabitat.org//NONSGML kigkonsult.se iCalcreator 2.30.10//
CALSCALE:GREGORIAN
METHOD:PUBLISH
UID:5f06e431-f200-46e2-8bef-ce1a930a868e
X-WR-CALDESC:Our office and ReStore will close at noon on July 23\, 2020 fo
 r staff training. Thank you!
X-WR-RELCALID:9e752b11ff0772f73f35c27d41e8410a
X-WR-TIMEZONE:America/New_York
BEGIN:VTIMEZONE
TZID:America/New_York
BEGIN:STANDARD
TZNAME:EST
DTSTART:20191103T020000
TZOFFSETFROM:-0400
TZOFFSETTO:-0500
RDATE:20201101T020000
RDATE:20211107T020000
END:STANDARD
BEGIN:DAYLIGHT
TZNAME:EDT
DTSTART:20200308T020000
TZOFFSETFROM:-0500
TZOFFSETTO:-0400
RDATE:20210314T020000
END:DAYLIGHT
END:VTIMEZONE
BEGIN:VEVENT
UID:afba6367-34cd-4137-91c2-be7204c3caa8
DTSTAMP:20260425T215019Z
DESCRIPTION:Our office and ReStore will close at noon on July 23\, 2020 for
  staff training. Thank you!
DTSTART;TZID=America/New_York:20200723T120000
DTEND;TZID=America/New_York:20200723T170000
LOCATION:
SUMMARY:Office and ReStore Close at Noon
END:VEVENT
END:VCALENDAR
