BEGIN:VCALENDAR
VERSION:2.0
PRODID:-//daytonhabitat.org//NONSGML kigkonsult.se iCalcreator 2.30.10//
CALSCALE:GREGORIAN
METHOD:PUBLISH
UID:ac23ec9d-ee1e-4c69-88bf-fe14930fb715
X-WR-CALDESC:Our ReStore is closed in observance of Independence Day.
X-WR-RELCALID:2d7fd384ae915735867850debcbfae80
X-WR-TIMEZONE:America/New_York
BEGIN:VTIMEZONE
TZID:America/New_York
BEGIN:STANDARD
TZNAME:EST
DTSTART:20191103T020000
TZOFFSETFROM:-0400
TZOFFSETTO:-0500
RDATE:20201101T020000
RDATE:20211107T020000
END:STANDARD
BEGIN:DAYLIGHT
TZNAME:EDT
DTSTART:20200308T020000
TZOFFSETFROM:-0500
TZOFFSETTO:-0400
RDATE:20210314T020000
END:DAYLIGHT
END:VTIMEZONE
BEGIN:VEVENT
UID:ef14a579-b3e0-4ae4-bc16-6aea1aa86f80
DTSTAMP:20260425T215256Z
DESCRIPTION:Our ReStore is closed in observance of Independence Day.
DTSTART;TZID=America/New_York:20200704T000000
DTEND;TZID=America/New_York:20200704T235900
LOCATION:
SUMMARY:ReStore Closed
END:VEVENT
END:VCALENDAR
