BEGIN:VCALENDAR
VERSION:2.0
PRODID:-//daytonhabitat.org//NONSGML kigkonsult.se iCalcreator 2.30.10//
CALSCALE:GREGORIAN
METHOD:PUBLISH
UID:bf91299f-34d4-46f6-ad3d-c5f124c02115
X-WR-CALDESC:Our office is closed today in observance of Independence Day.
X-WR-RELCALID:7bfe4a6ff1a91cd8bf73f6e0bc23a459
X-WR-TIMEZONE:America/New_York
BEGIN:VTIMEZONE
TZID:America/New_York
BEGIN:STANDARD
TZNAME:EST
DTSTART:20191103T020000
TZOFFSETFROM:-0400
TZOFFSETTO:-0500
RDATE:20201101T020000
RDATE:20211107T020000
END:STANDARD
BEGIN:DAYLIGHT
TZNAME:EDT
DTSTART:20200308T020000
TZOFFSETFROM:-0500
TZOFFSETTO:-0400
RDATE:20210314T020000
END:DAYLIGHT
END:VTIMEZONE
BEGIN:VEVENT
UID:2f06b2cc-642d-4192-800e-192d15b5dc90
DTSTAMP:20260425T215149Z
DESCRIPTION:Our office is closed today in observance of Independence Day.
DTSTART;TZID=America/New_York:20200703T000000
DTEND;TZID=America/New_York:20200703T235900
LOCATION:
SUMMARY:Office Closed
END:VEVENT
END:VCALENDAR
