BEGIN:VCALENDAR
VERSION:2.0
PRODID:-//daytonhabitat.org//NONSGML kigkonsult.se iCalcreator 2.30.10//
CALSCALE:GREGORIAN
METHOD:PUBLISH
UID:52d8e798-e8e4-47d6-8bc8-68a0ec315492
X-WR-CALDESC:The ReStore is closed today in observation of Memorial Day. Th
 e ReStore is always closed the Tuesday after a Monday holiday.
X-WR-RELCALID:c6cbfd36aa0c48316ab5245ecb8be461
X-WR-TIMEZONE:America/New_York
BEGIN:VTIMEZONE
TZID:America/New_York
BEGIN:STANDARD
TZNAME:EST
DTSTART:20191103T020000
TZOFFSETFROM:-0400
TZOFFSETTO:-0500
RDATE:20201101T020000
RDATE:20211107T020000
END:STANDARD
BEGIN:DAYLIGHT
TZNAME:EDT
DTSTART:20200308T020000
TZOFFSETFROM:-0500
TZOFFSETTO:-0400
RDATE:20210314T020000
END:DAYLIGHT
END:VTIMEZONE
BEGIN:VEVENT
UID:bea45a6b-d57a-4b8c-bdd3-bfe4661f03d4
DTSTAMP:20260425T190124Z
DESCRIPTION:The ReStore is closed today in observation of Memorial Day. The
  ReStore is always closed the Tuesday after a Monday holiday.
DTSTART;TZID=America/New_York:20200526T000000
DTEND;TZID=America/New_York:20200526T235900
LOCATION:
SUMMARY:ReStore Closed
END:VEVENT
END:VCALENDAR
