BEGIN:VCALENDAR
VERSION:2.0
PRODID:-//daytonhabitat.org//NONSGML kigkonsult.se iCalcreator 2.30.10//
CALSCALE:GREGORIAN
METHOD:PUBLISH
UID:ef20ef87-582a-43d9-9a73-762258ab063a
X-WR-CALDESC:Our offices are closed in observation of Memorial Day
X-WR-RELCALID:454bd4aa385f0618906c2bbdcf3a6356
X-WR-TIMEZONE:America/New_York
BEGIN:VTIMEZONE
TZID:America/New_York
BEGIN:STANDARD
TZNAME:EST
DTSTART:20191103T020000
TZOFFSETFROM:-0400
TZOFFSETTO:-0500
RDATE:20201101T020000
RDATE:20211107T020000
END:STANDARD
BEGIN:DAYLIGHT
TZNAME:EDT
DTSTART:20200308T020000
TZOFFSETFROM:-0500
TZOFFSETTO:-0400
RDATE:20210314T020000
END:DAYLIGHT
END:VTIMEZONE
BEGIN:VEVENT
UID:84f60b1d-9cd1-4b99-810f-db1528f5c4a4
DTSTAMP:20260425T191357Z
DESCRIPTION:Our offices are closed in observation of Memorial Day
DTSTART;TZID=America/New_York:20200525T000000
DTEND;TZID=America/New_York:20200525T235900
LOCATION:
SUMMARY:Office Closed
END:VEVENT
END:VCALENDAR
