BEGIN:VCALENDAR
VERSION:2.0
PRODID:-//daytonhabitat.org//NONSGML kigkonsult.se iCalcreator 2.30.10//
CALSCALE:GREGORIAN
METHOD:PUBLISH
UID:1242b38a-3d62-4582-8d4a-99b385153c49
X-WR-CALDESC:Share the wealth\, but in a meaningful way. \n\nAttend this wo
 rkshop from our friends at Thrivent and learn how to be a good steward of 
 your gifts. Find out how to make giving an act that benefits you and the p
 eople and causes you care about. During this session\, we’ll also explore 
 the latest economic and financial data to help you make prudent decisions 
 about your money.\n\nJoin Thrivent's Kathy Foland via ZOOM to explore stra
 tegies in giving to your favorite non-profits- featuring Habitat for Human
 ity of Greater Dayton! Kathy will cover some of the new opportunities the 
 SECURE and CARES act provide along with charitable giving strategies . Zoo
 m log in instructions will be sent after registration. \n\nNo products wil
 l be sold. \n
X-WR-RELCALID:6c3fee7c0c5aed677bd2acc562ceefaf
X-WR-TIMEZONE:America/New_York
BEGIN:VTIMEZONE
TZID:America/New_York
BEGIN:STANDARD
TZNAME:EST
DTSTART:20191103T020000
TZOFFSETFROM:-0400
TZOFFSETTO:-0500
RDATE:20201101T020000
RDATE:20211107T020000
END:STANDARD
BEGIN:DAYLIGHT
TZNAME:EDT
DTSTART:20200308T020000
TZOFFSETFROM:-0500
TZOFFSETTO:-0400
RDATE:20210314T020000
END:DAYLIGHT
END:VTIMEZONE
BEGIN:VEVENT
UID:0d6b6520-b1aa-4fed-9b55-b67f6e1f69bb
DTSTAMP:20260425T190343Z
DESCRIPTION:Share the wealth\, but in a meaningful way. \n\nAttend this wor
 kshop from our friends at Thrivent and learn how to be a good steward of y
 our gifts. Find out how to make giving an act that benefits you and the pe
 ople and causes you care about. During this session\, we’ll also explore t
 he latest economic and financial data to help you make prudent decisions a
 bout your money.\n\nJoin Thrivent's Kathy Foland via ZOOM to explore strat
 egies in giving to your favorite non-profits- featuring Habitat for Humani
 ty of Greater Dayton! Kathy will cover some of the new opportunities the S
 ECURE and CARES act provide along with charitable giving strategies . Zoom
  log in instructions will be sent after registration. \n\nNo products will
  be sold. \n
DTSTART;TZID=America/New_York:20200518T190000
DTEND;TZID=America/New_York:20200518T203000
LOCATION:Virtual Zoom Meeting
SUMMARY:Give now\, Give later\, Give and Receive!
END:VEVENT
END:VCALENDAR
