BEGIN:VCALENDAR
VERSION:2.0
PRODID:-//daytonhabitat.org//NONSGML kigkonsult.se iCalcreator 2.30.10//
CALSCALE:GREGORIAN
METHOD:PUBLISH
UID:ea088832-d55b-4078-a9fb-f0a2006510d0
X-WR-CALDESC:Our office and ReStore are closed today in observance of Good 
 Friday
X-WR-RELCALID:5eb1e5b75a1f6d8d5745d9772cc47ef3
X-WR-TIMEZONE:America/New_York
BEGIN:VTIMEZONE
TZID:America/New_York
BEGIN:STANDARD
TZNAME:EST
DTSTART:20191103T020000
TZOFFSETFROM:-0400
TZOFFSETTO:-0500
RDATE:20201101T020000
END:STANDARD
BEGIN:DAYLIGHT
TZNAME:EDT
DTSTART:20200308T020000
TZOFFSETFROM:-0500
TZOFFSETTO:-0400
RDATE:20210314T020000
END:DAYLIGHT
END:VTIMEZONE
BEGIN:VEVENT
UID:0a137cce-44c6-4145-b27c-27fb070fede1
DTSTAMP:20260425T201951Z
DESCRIPTION:Our office and ReStore are closed today in observance of Good F
 riday
DTSTART;TZID=America/New_York:20200410T000000
DTEND;TZID=America/New_York:20200410T235900
LOCATION:
SUMMARY:Closed for Good Friday
END:VEVENT
END:VCALENDAR
