BEGIN:VCALENDAR
VERSION:2.0
PRODID:-//daytonhabitat.org//NONSGML kigkonsult.se iCalcreator 2.30.10//
CALSCALE:GREGORIAN
METHOD:PUBLISH
UID:15286346-ecb1-4718-be12-67afd779ea80
X-WR-CALDESC:Due to the current COVID-19 health crisis and for the safety o
 f our employees and customers\, our ReStore is temporarily closed until fu
 rther notice. We will make announcements regarding the reopening of our Re
 Store as new information becomes available. Please check our site\, follow
  us on Facebook\, or scroll to the bottom of this page and subscribe to ou
 r emails for updates. Updates will be posted on our website's ReStore page
  as soon as they are available. \n\nWe are not accepting donations at the 
 store or scheduling pick-ups at this time. Please do not leave donated ite
 ms outside of our ReStore as no one is available to process your donation.
  If you are able\, please hold onto the items you wish to donate as we wil
 l urgently need them when we reopen.\n\nWhen we are safely able to reopen 
 the store and accept donations\, things will be different. We will likely 
 need to limit the number of customers in the store\, have special hours fo
 r at risk shoppers\, and might ask you to wear a face covering. We are sti
 ll working through the details. As soon as we have a formalized plan to be
 gin reopening and accepting donations\, you will know.\n\nWe miss our cust
 omers. We cannot wait to see you again.\n\nEveryone has been affected by t
 his global health crisis and the accompanying economic shock. Consider a g
 ift to our Resiliency Fund. We need your support now more than ever to hel
 p us serve local families and build back.
X-WR-RELCALID:192a9ed701e6b23006b0334cc9144f8c
X-WR-TIMEZONE:America/New_York
BEGIN:VTIMEZONE
TZID:America/New_York
BEGIN:STANDARD
TZNAME:EST
DTSTART:20191103T020000
TZOFFSETFROM:-0400
TZOFFSETTO:-0500
RDATE:20201101T020000
END:STANDARD
BEGIN:DAYLIGHT
TZNAME:EDT
DTSTART:20200308T020000
TZOFFSETFROM:-0500
TZOFFSETTO:-0400
RDATE:20210314T020000
END:DAYLIGHT
END:VTIMEZONE
BEGIN:VEVENT
UID:b14a4d3c-3096-4182-b1be-07ebd01a2e28
DTSTAMP:20260425T190251Z
DESCRIPTION:Due to the current COVID-19 health crisis and for the safety of
  our employees and customers\, our ReStore is temporarily closed until fur
 ther notice. We will make announcements regarding the reopening of our ReS
 tore as new information becomes available. Please check our site\, follow 
 us on Facebook\, or scroll to the bottom of this page and subscribe to our
  emails for updates. Updates will be posted on our website's ReStore page 
 as soon as they are available. \n\nWe are not accepting donations at the s
 tore or scheduling pick-ups at this time. Please do not leave donated item
 s outside of our ReStore as no one is available to process your donation. 
 If you are able\, please hold onto the items you wish to donate as we will
  urgently need them when we reopen.\n\nWhen we are safely able to reopen t
 he store and accept donations\, things will be different. We will likely n
 eed to limit the number of customers in the store\, have special hours for
  at risk shoppers\, and might ask you to wear a face covering. We are stil
 l working through the details. As soon as we have a formalized plan to beg
 in reopening and accepting donations\, you will know.\n\nWe miss our custo
 mers. We cannot wait to see you again.\n\nEveryone has been affected by th
 is global health crisis and the accompanying economic shock. Consider a gi
 ft to our Resiliency Fund. We need your support now more than ever to help
  us serve local families and build back.
DTSTART;TZID=America/New_York:20200320T000000
DTEND;TZID=America/New_York:20200512T235900
LOCATION:
SUMMARY:ReStore Closed Due to COVID-19
END:VEVENT
END:VCALENDAR
